Workbook
Name \a: #REF!
Name \a: #REF!
Name _____DAT23: #REF!
Name _____DAT23: #REF!
Name _____DAT24: #REF!
Name _____DAT24: #REF!
Name ____DAT23: #REF!
Name ____DAT24: #REF!
Name ___DAT1: #REF!
Name ___DAT12: #REF!
Name ___DAT13: #REF!
Name ___DAT14: #REF!
Name ___DAT15: #REF!
Name ___DAT16: #REF!
Name ___DAT17: #REF!
Name ___DAT18: #REF!
Name ___DAT19: #REF!
Name ___DAT2: #REF!
Name ___DAT20: #REF!
Name ___DAT22: #REF!
Name ___DAT23: #REF!
Name ___DAT24: #REF!
Name ___DAT3: #REF!
Name ___DAT4: #REF!
Name ___DAT5: #REF!
Name ___DAT6: #REF!
Name ___DAT7: #REF!
Name ___DAT8: #REF!
Name __DAT1: #REF!
Name __DAT12: #REF!
Name __DAT13: #REF!
Name __DAT14: #REF!
Name __DAT15: #REF!
Name __DAT16: #REF!
Name __DAT17: #REF!
Name __DAT18: #REF!
Name __DAT19: #REF!
Name __DAT2: #REF!
Name __DAT20: #REF!
Name __DAT22: #REF!
Name __DAT23: #REF!
Name __DAT23: #REF!
Name __DAT24: #REF!
Name __DAT24: #REF!
Name __DAT3: #REF!
Name __DAT4: #REF!
Name __DAT5: #REF!
Name __DAT6: #REF!
Name __DAT7: #REF!
Name __DAT8: #REF!
Name __RSE1: #REF!
Name __RSE2: #REF!
Name _DAT1: #REF!
Name _DAT12: #REF!
Name _DAT13: #REF!
Name _DAT13: #REF!
Name _DAT14: #REF!
Name _DAT14: #REF!
Name _DAT15: #REF!
Name _DAT16: #REF!

Sheet INDICE
B6: FONDO MUTUO FAM LIQUIDEZ DÓLARES Administrado por: FAMILIAR ADMINISTRADORA DE FONDOS PATRIMONIALES DE INVERSIÓN SOCIEDAD ANÓNIMA
B14: ESTADOS FINANCIEROS AL 30 DE SEPTIEMBRE DE 2024 PRESENTADO DE FORMA COMPARATIVA
B15: CON EL PERÍODO COMPRENDIDO DESDE EL 1 DE ENERO HASTA EL 31 DE DICIEMBRE DEL 2023
L19: REF,
C21: Activo Neto | L21: Activo Neto
C23: Estado de Ingresos y Egresos | L23: Estado de Ingresos y Egresos
C25: Flujos de Efectivo | L25: Flujos de Efectivo
C27: Variación del Activo Neto | L27: Variación del Activo Neto
C29: Notas a los Estados Financieros (Nota 1 a Nota 3,7) | L29: Nota 1 a Nota 3,7
C31: Notas a los Estados Financieros (Nota 3,8 a Nota 4,1) | L31: Nota 3,8 a Nota 4,1
C33: Notas a los Estados Financieros (Nota 4,2) | L33: Nota 4,2
C35: Notas a los Estados Financieros (Nota 4,3 a Nota 4,11) | L35: Nota 4,3 a Nota 4,11
C37: Notas a los Estados Financieros (Nota 5 a Nota 8) | L37: Nota 5 a Nota 8
D47: Rodolfo Gauto | L47: Dahiana Gómez
D48: Presidente | L48: Contadora
H54: Maria Cristina Troche
H55: Vicepresidente

Sheet INVENTARIO RF-MAR
B1: FECHA VALOR | C1: =+'[1]FM FAMPLUSUSD'!A305 -> 46112 | I1: =+C3-1.38%-0.07% -> 0.049916263
B2: PORTAFOLIO | C2: =ROUND((SUM(Tabla3[Valor Presente o Contable])),2) -> 19360935 | D2: Plazo promedio | G2: =SUMPRODUCT(Tabla3[Valor Presente o Contable],Tabla3[Plazo residual])/SUM(Tabla3[Valor Presente o Contable]) -> 804.02841 | I2: =+C4-1.38% -> 0.049207811
B3: YTM | C3: =SUMPRODUCT(Tabla3[YTM],Tabla3[Valor Presente o Contable])/SUM(Tabla3[Valor Presente o Contable]) -> 0.064416263 | D3: Duración promedio | G3: =SUMPRODUCT(Tabla3[Valor Presente o Contable],Tabla3[Duration])/SUM(Tabla3[Valor Presente o Contable]) -> 2.1955641
B4: TNA | C4: =SUMPRODUCT(Tabla3[TNA],Tabla3[Valor Presente o Contable])/SUM(Tabla3[Valor Presente o Contable]) -> 0.063007811 | D4: Duración Modif. Prom. | G4: =SUMPRODUCT(Tabla3[Valor Presente o Contable],Tabla3[Modified Duration])/SUM(Tabla3[Valor Presente o Contable]) -> 2.1446195 | H4: Valuación por devengado | K4: =SUM(Tabla3[Valuación por devegamiento]) -> 3291.2479
U5: =C1 -> 46112 | V5: =U5-1 -> 46111 | W5: =SUM(Tabla3[Valuación por devegamiento]) -> 3291.2479 | AG5: =+SUM(AG7:AG557) -> 19334000 | AH5: =+SUM(AH7:AH557) -> 3058466.6 | AI5: =+SUM(AI7:AI557) -> 2906363.6 | AJ5: =+SUM(AJ7:AJ557) -> 23163.242 | AK5: =+SUM(AK7:AK557) -> -148330.8 | AL5: =AG5+AH5-AI5+AJ5+AK5 -> 19360935 | AM5: =+AL5-C2 -> -0.00067058578
A6: #Operación | B6: Emisor | C6: Código Emisión | D6: Instrumento | E6: Calificación | F6: Sector | G6: País | H6: Cantidad | I6: Cortes | J6: Tasa de Interés | K6: Last coupon | L6: Accrued | M6: Precio Clean | N6: Precio Dirty | O6: YTM | P6: TNA | Q6: Fecha de operación | R6: Fecha de Vencimiento | S6: Moneda | T6: Valor Nominal | U6: Valor Presente o Contable | V6: Valor presente o contable2 | W6: Valuación por devegamiento | X6: Estado | Y6: Periodicidad | Z6: Plazo residual | AA6: Duration | AB6: Modified Duration | AC6: Custodio | AD6: Amortización k | cupón de intereses | AG6: Valor nominal K | AH6: Valor nominal CI | AI6: Int. a devengar | AJ6: Diferencia de Px + | AK6: Diferencia de Px -
A7: 1 | B7: Banco Basa SA | C7: PYBAM01F0358 | D7: Bonos Financieros | E7: AA-py | F7: Financiero | G7: Paraguay | H7: 50 | I7: 1000 | J7: 0.065 | K7: =_xlfn.MAXIFS(R:R,C:C,C7,AD:AD,"Cupón de interés",X:X,"Vencido") -> 46049 | L7: =+Tabla3[[#This Row],[Tasa de Interés]]*($U$5-Tabla3[[#This Row],[Last coupon]])/365 -> 0.011219178 | M7: =+Tabla3[[#This Row],[Precio Dirty]]-Tabla3[[#This Row],[Accrued]] -> 1.0002144 | N7: =SUMIFS(U:U,C:C,C7,Q:Q,Q7)/SUMIFS(T:T,C:C,C7,Q:Q,Q7,AD:AD,"Amortización de K") -> 1.0114336 | O7: 0.066508695 | P7: 0.06491147 | Q7: 45812 | R7: 47238 | S7: USD | T7: =Tabla3[[#This Row],[Cantidad]]*Tabla3[[#This Row],[Cortes]] -> 50000 | U7: =IF(X7="VIgente",(T7/(1+O7)^((R7-$U$5)/365))) -> 40992.249 | V7: =IF(X7="VIgente",(T7/(1+O7)^((R7-$V$5)/365))) -> 40985.018 | W7: =IF(Tabla3[[#This Row],[Fecha de operación]]=$C$1,0,U7-V7) -> 7.2308904 | X7: =IF(R7<=$U$5,"Vencido","Vigente") -> Vigente | Y7: Trimestral | Z7: =+R7-$U$5 -> 1126 | AA7: =IF(Y7="Mensual",DURATION($C$1,$C$1+Z7*12,J7/12,O7/12,1)/12,DURATION($C$1,R7,J7,O7,IF(Y7="Cupón cero",1,IF(Y7="Al vencimiento",1,IF(Y7="Anual",1,IF(Y7="Semestral",2,IF(Y7="Trimestral",4,""))))))) -> 2.7882992 | AB7: =IF(Y7="Mensual",MDURATION($C$1,$C$1+Z7*12,J7/12,O7/12,1)/12,MDURATION($C$1,R7,J7,O7,IF(Y7="Cupón cero",1,IF(Y7="Al vencimiento",1,IF(Y7="Anual",1,IF(Y7="Semestral",2,IF(Y7="Trimestral",4,""))))))) -> 2.7426959 | AC7: Familiar CB | AD7: Amortización de K | AG7: =+IF(Tabla3[[#This Row],[Amortización k | cupón de intereses]]="Amortización de K",Tabla3[[#This Row],[Valor Nominal]],0) -> 50000 | AH7: =+IF(AND(Tabla3[[#This Row],[Amortización k | cupón de intereses]]="Cupón de interés",Tabla3[[#This Row],[Estado]]="Vigente"),Tabla3[[#This Row],[Valor Nominal]],0) -> 0 | AI7: =+IF(Tabla3[[#This Row],[Amortización k | cupón de intereses]]="Amortización de K",SUMIFS($AH$7:$AH$557,Tabla3[Código Emisión],Tabla3[[#This Row],[Código Emisión]],Tabla3[Fecha de operación],Tabla3[[#This Row],[Fecha de operación]]),0)-Tabla3[[#This Row],[Accrued]]*Tabla3[[#This Row],[Valor Nominal]] -> 10026.027 | AJ7: =+IF(Tabla3[[#This Row],[Amortización k | cupón de intereses]]="Amortización de K",IF(Tabla3[[#This Row],[Precio Clean]]>1,Tabla3[[#This Row],[Valor Nominal]]*(Tabla3[[#This Row],[Precio Clean]]-1),0),0) -> 10.721264 | AK7: =+IF(Tabla3[[#This Row],[Amortización k | cupón de intereses]]="Amortización de K",IF(Tabla3[[#This Row],[Precio Clean]]<1,Tabla3[[#This Row],[Valor Nominal]]*(Tabla3[[#This Row],[Precio Clean]]-1),0),0) -> 0
B8: =+B7 -> Banco Basa SA | C8: =+C7 -> PYBAM01F0358 | D8: =+D7 -> Bonos Financieros | E8: =+E7 -> AA-py | F8: Financiero | G8: Paraguay | H8: =+H7 -> 50 | I8: 16.739726 | O8: =$O$7 -> 0.066508695 | P8: =$P$7 -> 0.06491147 | Q8: =+Q7 -> 45812 | R8: 47238 | S8: USD | T8: =Tabla3[[#This Row],[Cantidad]]*Tabla3[[#This Row],[Cortes]] -> 836.9863 | U8: =IF(X8="VIgente",(T8/(1+O8)^((R8-$U$5)/365))) -> 686.19901 | V8: =IF(X8="VIgente",(T8/(1+O8)^((R8-$V$5)/365))) -> 686.07797 | W8: =IF(Tabla3[[#This Row],[Fecha de operación]]=$C$1,0,U8-V8) -> 0.12104312 | X8: =IF(R8<=$U$5,"Vencido","Vigente") -> Vigente | Z8: =+R8-$U$5 -> 1126 | AA8: =+AA7 -> 2.7882992 | AB8: =AB7 -> 2.7426959 | AC8: Familiar CB | AD8: Cupón de Interés | AG8: =+IF(Tabla3[[#This Row],[Amortización k | cupón de intereses]]="Amortización de K",Tabla3[[#This Row],[Valor Nominal]],0) -> 0 | AH8: =+IF(AND(Tabla3[[#This Row],[Amortización k | cupón de intereses]]="Cupón de interés",Tabla3[[#This Row],[Estado]]="Vigente"),Tabla3[[#This Row],[Valor Nominal]],0) -> 836.9863 | AI8: =+IF(Tabla3[[#This Row],[Amortización k | cupón de intereses]]="Amortización de K",SUMIFS($AH$7:$AH$557,Tabla3[Código Emisión],Tabla3[[#This Row],[Código Emisión]],Tabla3[Fecha de operación],Tabla3[[#This Row],[Fecha de operación]]),0)-Tabla3[[#This Row],[Accrued]]*Tabla3[[#This Row],[Valor Nominal]] -> 0 | AJ8: =+IF(Tabla3[[#This Row],[Amortización k | cupón de intereses]]="Amortización de K",IF(Tabla3[[#This Row],[Precio Clean]]>1,Tabla3[[#This Row],[Valor Nominal]]*(Tabla3[[#This Row],[Precio Clean]]-1),0),0) -> 0 | AK8: =+IF(Tabla3[[#This Row],[Amortización k | cupón de intereses]]="Amortización de K",IF(Tabla3[[#This Row],[Precio Clean]]<1,Tabla3[[#This Row],[Valor Nominal]]*(Tabla3[[#This Row],[Precio Clean]]-1),0),0) -> 0 | AO8: CDA | AP8: =+AP9+AP10-AP11+AP12+AP13 -> 15513942 | AQ8: =+SUMIFS(Tabla3[Valor Presente o Contable],Tabla3[Instrumento],AO8) -> 15513942 | AR8: =+AP8-AQ8 -> 0
B9: =+B8 -> Banco Basa SA | C9: =+C8 -> PYBAM01F0358 | D9: =+D8 -> Bonos Financieros | E9: =+E8 -> AA-py | F9: =+F8 -> Financiero | G9: =+G8 -> Paraguay | H9: =+H8 -> 50 | I9: 16.205479 | O9: =+O8 -> 0.066508695 | P9: =+P8 -> 0.06491147 | Q9: =+Q8 -> 45812 | R9: 47144 | S9: USD | T9: =Tabla3[[#This Row],[Cantidad]]*Tabla3[[#This Row],[Cortes]] -> 810.27395 | U9: =IF(X9="VIgente",(T9/(1+O9)^((R9-$U$5)/365))) -> 675.40677 | V9: =IF(X9="VIgente",(T9/(1+O9)^((R9-$V$5)/365))) -> 675.28763 | W9: =IF(Tabla3[[#This Row],[Fecha de operación]]=$C$1,0,U9-V9) -> 0.11913941 | X9: =IF(R9<=$U$5,"Vencido","Vigente") -> Vigente | Z9: =+R9-$U$5 -> 1032 | AA9: =AA8 -> 2.7882992 | AB9: =AB8 -> 2.7426959 | AC9: Familiar CB | AD9: Cupón de Interés | AG9: =+IF(Tabla3[[#This Row],[Amortización k | cupón de intereses]]="Amortización de K",Tabla3[[#This Row],[Valor Nominal]],0) -> 0 | AH9: =+IF(AND(Tabla3[[#This Row],[Amortización k | cupón de intereses]]="Cupón de interés",Tabla3[[#This Row],[Estado]]="Vigente"),Tabla3[[#This Row],[Valor Nominal]],0) -> 810.27395 | AI9: =+IF(Tabla3[[#This Row],[Amortización k | cupón de intereses]]="Amortización de K",SUMIFS($AH$7:$AH$557,Tabla3[Código Emisión],Tabla3[[#This Row],[Código Emisión]],Tabla3[Fecha de operación],Tabla3[[#This Row],[Fecha de operación]]),0)-Tabla3[[#This Row],[Accrued]]*Tabla3[[#This Row],[Valor Nominal]] -> 0 | AJ9: =+IF(Tabla3[[#This Row],[Amortización k | cupón de intereses]]="Amortización de K",IF(Tabla3[[#This Row],[Precio Clean]]>1,Tabla3[[#This Row],[Valor Nominal]]*(Tabla3[[#This Row],[Precio Clean]]-1),0),0) -> 0 | AK9: =+IF(Tabla3[[#This Row],[Amortización k | cupón de intereses]]="Amortización de K",IF(Tabla3[[#This Row],[Precio Clean]]<1,Tabla3[[#This Row],[Valor Nominal]]*(Tabla3[[#This Row],[Precio Clean]]-1),0),0) -> 0 | AN9: 12010115001001 | AO9: CDA USD | AP9: =+SUMIF(Tabla3[Instrumento],$AO$8,$AG$7:$AG$520) -> 15384000
B10: =+B9 -> Banco Basa SA | C10: =+C9 -> PYBAM01F0358 | D10: =+D9 -> Bonos Financieros | E10: =+E9 -> AA-py | F10: =+F9 -> Financiero | G10: =+G9 -> Paraguay | H10: =+H9 -> 50 | I10: 16.205479 | O10: =+O9 -> 0.066508695 | P10: =+P9 -> 0.06491147 | Q10: =+Q9 -> 45812 | R10: 47053 | S10: USD | T10: =Tabla3[[#This Row],[Cantidad]]*Tabla3[[#This Row],[Cortes]] -> 810.27395 | U10: =IF(X10="VIgente",(T10/(1+O10)^((R10-$U$5)/365))) -> 686.33691 | V10: =IF(X10="VIgente",(T10/(1+O10)^((R10-$V$5)/365))) -> 686.21584 | W10: =IF(Tabla3[[#This Row],[Fecha de operación]]=$C$1,0,U10-V10) -> 0.12106745 | X10: =IF(R10<=$U$5,"Vencido","Vigente") -> Vigente | Z10: =+R10-$U$5 -> 941 | AA10: =AA9 -> 2.7882992 | AB10: =AB9 -> 2.7426959 | AC10: Familiar CB | AD10: Cupón de Interés | AG10: =+IF(Tabla3[[#This Row],[Amortización k | cupón de intereses]]="Amortización de K",Tabla3[[#This Row],[Valor Nominal]],0) -> 0 | AH10: =+IF(AND(Tabla3[[#This Row],[Amortización k | cupón de intereses]]="Cupón de interés",Tabla3[[#This Row],[Estado]]="Vigente"),Tabla3[[#This Row],[Valor Nominal]],0) -> 810.27395 | AI10: =+IF(Tabla3[[#This Row],[Amortización k | cupón de intereses]]="Amortización de K",SUMIFS($AH$7:$AH$557,Tabla3[Código Emisión],Tabla3[[#This Row],[Código Emisión]],Tabla3[Fecha de operación],Tabla3[[#This Row],[Fecha de operación]]),0)-Tabla3[[#This Row],[Accrued]]*Tabla3[[#This Row],[Valor Nominal]] -> 0 | AJ10: =+IF(Tabla3[[#This Row],[Amortización k | cupón de intereses]]="Amortización de K",IF(Tabla3[[#This Row],[Precio Clean]]>1,Tabla3[[#This Row],[Valor Nominal]]*(Tabla3[[#This Row],[Precio Clean]]-1),0),0) -> 0 | AK10: =+IF(Tabla3[[#This Row],[Amortización k | cupón de intereses]]="Amortización de K",IF(Tabla3[[#This Row],[Precio Clean]]<1,Tabla3[[#This Row],[Valor Nominal]]*(Tabla3[[#This Row],[Precio Clean]]-1),0),0) -> 0 | AN10: 13080225001001 | AO10: Int. a cobrar - CDA USD | AP10: =+SUMIF(Tabla3[Instrumento],$AO$8,$AH$7:$AH$197) -> 2041255.1
B11: =+B10 -> Banco Basa SA | C11: =+C10 -> PYBAM01F0358 | D11: =+D10 -> Bonos Financieros | E11: =+E10 -> AA-py | F11: =+F10 -> Financiero | G11: =+G10 -> Paraguay | H11: =+H10 -> 50 | I11: 16.205479 | O11: =+O10 -> 0.066508695 | P11: =+P10 -> 0.06491147 | Q11: =+Q10 -> 45812 | R11: 46962 | S11: USD | T11: =Tabla3[[#This Row],[Cantidad]]*Tabla3[[#This Row],[Cortes]] -> 810.27395 | U11: =IF(X11="VIgente",(T11/(1+O11)^((R11-$U$5)/365))) -> 697.44393 | V11: =IF(X11="VIgente",(T11/(1+O11)^((R11-$V$5)/365))) -> 697.3209 | W11: =IF(Tabla3[[#This Row],[Fecha de operación]]=$C$1,0,U11-V11) -> 0.12302669 | X11: =IF(R11<=$U$5,"Vencido","Vigente") -> Vigente | Z11: =+R11-$U$5 -> 850 | AA11: =AA10 -> 2.7882992 | AB11: =AB10 -> 2.7426959 | AC11: Familiar CB | AD11: Cupón de Interés | AG11: =+IF(Tabla3[[#This Row],[Amortización k | cupón de intereses]]="Amortización de K",Tabla3[[#This Row],[Valor Nominal]],0) -> 0 | AH11: =+IF(AND(Tabla3[[#This Row],[Amortización k | cupón de intereses]]="Cupón de interés",Tabla3[[#This Row],[Estado]]="Vigente"),Tabla3[[#This Row],[Valor Nominal]],0) -> 810.27395 | AI11: =+IF(Tabla3[[#This Row],[Amortización k | cupón de intereses]]="Amortización de K",SUMIFS($AH$7:$AH$557,Tabla3[Código Emisión],Tabla3[[#This Row],[Código Emisión]],Tabla3[Fecha de operación],Tabla3[[#This Row],[Fecha de operación]]),0)-Tabla3[[#This Row],[Accrued]]*Tabla3[[#This Row],[Valor Nominal]] -> 0 | AJ11: =+IF(Tabla3[[#This Row],[Amortización k | cupón de intereses]]="Amortización de K",IF(Tabla3[[#This Row],[Precio Clean]]>1,Tabla3[[#This Row],[Valor Nominal]]*(Tabla3[[#This Row],[Precio Clean]]-1),0),0) -> 0 | AK11: =+IF(Tabla3[[#This Row],[Amortización k | cupón de intereses]]="Amortización de K",IF(Tabla3[[#This Row],[Precio Clean]]<1,Tabla3[[#This Row],[Valor Nominal]]*(Tabla3[[#This Row],[Precio Clean]]-1),0),0) -> 0 | AN11: 13080225901001 | AO11: (-) Int. a devengar - CDA USD | AP11: =+SUMIF(Tabla3[Instrumento],$AO8,$AI$7:$AI$384) -> 1928680.9
B12: =+B11 -> Banco Basa SA | C12: =+C11 -> PYBAM01F0358 | D12: =+D11 -> Bonos Financieros | E12: =+E11 -> AA-py | F12: =+F11 -> Financiero | G12: =+G11 -> Paraguay | H12: =+H11 -> 50 | I12: 16.739726 | O12: =+O11 -> 0.066508695 | P12: =+P11 -> 0.06491147 | Q12: =+Q11 -> 45812 | R12: 46871 | S12: USD | T12: =Tabla3[[#This Row],[Cantidad]]*Tabla3[[#This Row],[Cortes]] -> 836.9863 | U12: =IF(X12="VIgente",(T12/(1+O12)^((R12-$U$5)/365))) -> 732.09547 | V12: =IF(X12="VIgente",(T12/(1+O12)^((R12-$V$5)/365))) -> 731.96633 | W12: =IF(Tabla3[[#This Row],[Fecha de operación]]=$C$1,0,U12-V12) -> 0.1291391 | X12: =IF(R12<=$U$5,"Vencido","Vigente") -> Vigente | Z12: =+R12-$U$5 -> 759 | AA12: =AA11 -> 2.7882992 | AB12: =AB11 -> 2.7426959 | AC12: Familiar CB | AD12: Cupón de Interés | AG12: =+IF(Tabla3[[#This Row],[Amortización k | cupón de intereses]]="Amortización de K",Tabla3[[#This Row],[Valor Nominal]],0) -> 0 | AH12: =+IF(AND(Tabla3[[#This Row],[Amortización k | cupón de intereses]]="Cupón de interés",Tabla3[[#This Row],[Estado]]="Vigente"),Tabla3[[#This Row],[Valor Nominal]],0) -> 836.9863 | AI12: =+IF(Tabla3[[#This Row],[Amortización k | cupón de intereses]]="Amortización de K",SUMIFS($AH$7:$AH$557,Tabla3[Código Emisión],Tabla3[[#This Row],[Código Emisión]],Tabla3[Fecha de operación],Tabla3[[#This Row],[Fecha de operación]]),0)-Tabla3[[#This Row],[Accrued]]*Tabla3[[#This Row],[Valor Nominal]] -> 0 | AJ12: =+IF(Tabla3[[#This Row],[Amortización k | cupón de intereses]]="Amortización de K",IF(Tabla3[[#This Row],[Precio Clean]]>1,Tabla3[[#This Row],[Valor Nominal]]*(Tabla3[[#This Row],[Precio Clean]]-1),0),0) -> 0 | AK12: =+IF(Tabla3[[#This Row],[Amortización k | cupón de intereses]]="Amortización de K",IF(Tabla3[[#This Row],[Precio Clean]]<1,Tabla3[[#This Row],[Valor Nominal]]*(Tabla3[[#This Row],[Precio Clean]]-1),0),0) -> 0 | AN12: 12010121001001 | AO12: Dif. de Precio Positivo no Amort. - CDA USD | AP12: =+SUMIF(Tabla3[Instrumento],$AO8,$AJ$7:$AJ$384) -> 23120.018
B13: =+B12 -> Banco Basa SA | C13: =+C12 -> PYBAM01F0358 | D13: =+D12 -> Bonos Financieros | E13: =+E12 -> AA-py | F13: =+F12 -> Financiero | G13: =+G12 -> Paraguay | H13: =+H12 -> 50 | I13: 16.205479 | O13: =+O12 -> 0.066508695 | P13: =+P12 -> 0.06491147 | Q13: =+Q12 -> 45812 | R13: 46777 | S13: USD | T13: =Tabla3[[#This Row],[Cantidad]]*Tabla3[[#This Row],[Cortes]] -> 810.27395 | U13: =IF(X13="VIgente",(T13/(1+O13)^((R13-$U$5)/365))) -> 720.58138 | V13: =IF(X13="VIgente",(T13/(1+O13)^((R13-$V$5)/365))) -> 720.45427 | W13: =IF(Tabla3[[#This Row],[Fecha de operación]]=$C$1,0,U13-V13) -> 0.12710805 | X13: =IF(R13<=$U$5,"Vencido","Vigente") -> Vigente | Z13: =+R13-$U$5 -> 665 | AA13: =AA12 -> 2.7882992 | AB13: =AB12 -> 2.7426959 | AC13: Familiar CB | AD13: Cupón de Interés | AG13: =+IF(Tabla3[[#This Row],[Amortización k | cupón de intereses]]="Amortización de K",Tabla3[[#This Row],[Valor Nominal]],0) -> 0 | AH13: =+IF(AND(Tabla3[[#This Row],[Amortización k | cupón de intereses]]="Cupón de interés",Tabla3[[#This Row],[Estado]]="Vigente"),Tabla3[[#This Row],[Valor Nominal]],0) -> 810.27395 | AI13: =+IF(Tabla3[[#This Row],[Amortización k | cupón de intereses]]="Amortización de K",SUMIFS($AH$7:$AH$557,Tabla3[Código Emisión],Tabla3[[#This Row],[Código Emisión]],Tabla3[Fecha de operación],Tabla3[[#This Row],[Fecha de operación]]),0)-Tabla3[[#This Row],[Accrued]]*Tabla3[[#This Row],[Valor Nominal]] -> 0 | AJ13: =+IF(Tabla3[[#This Row],[Amortización k | cupón de intereses]]="Amortización de K",IF(Tabla3[[#This Row],[Precio Clean]]>1,Tabla3[[#This Row],[Valor Nominal]]*(Tabla3[[#This Row],[Precio Clean]]-1),0),0) -> 0 | AK13: =+IF(Tabla3[[#This Row],[Amortización k | cupón de intereses]]="Amortización de K",IF(Tabla3[[#This Row],[Precio Clean]]<1,Tabla3[[#This Row],[Valor Nominal]]*(Tabla3[[#This Row],[Precio Clean]]-1),0),0) -> 0 | AN13: 22010110001001 | AO13: Dif. de Precio Negativo no Amort. - CDA USD | AP13: =+SUMIF(Tabla3[Instrumento],$AO8,$AK$7:$AK$384) -> -5752.3845
B14: =+B13 -> Banco Basa SA | C14: =+C13 -> PYBAM01F0358 | D14: =+D13 -> Bonos Financieros | E14: =+E13 -> AA-py | F14: =+F13 -> Financiero | G14: =+G13 -> Paraguay | H14: =+H13 -> 50 | I14: 16.205479 | O14: =+O13 -> 0.066508695 | P14: =+P13 -> 0.06491147 | Q14: =+Q13 -> 45812 | R14: 46686 | S14: USD | T14: =Tabla3[[#This Row],[Cantidad]]*Tabla3[[#This Row],[Cortes]] -> 810.27395 | U14: =IF(X14="VIgente",(T14/(1+O14)^((R14-$U$5)/365))) -> 732.24259 | V14: =IF(X14="VIgente",(T14/(1+O14)^((R14-$V$5)/365))) -> 732.11342 | W14: =IF(Tabla3[[#This Row],[Fecha de operación]]=$C$1,0,U14-V14) -> 0.12916505 | X14: =IF(R14<=$U$5,"Vencido","Vigente") -> Vigente | Z14: =+R14-$U$5 -> 574 | AA14: =AA13 -> 2.7882992 | AB14: =AB13 -> 2.7426959 | AC14: Familiar CB | AD14: Cupón de Interés | AG14: =+IF(Tabla3[[#This Row],[Amortización k | cupón de intereses]]="Amortización de K",Tabla3[[#This Row],[Valor Nominal]],0) -> 0 | AH14: =+IF(AND(Tabla3[[#This Row],[Amortización k | cupón de intereses]]="Cupón de interés",Tabla3[[#This Row],[Estado]]="Vigente"),Tabla3[[#This Row],[Valor Nominal]],0) -> 810.27395 | AI14: =+IF(Tabla3[[#This Row],[Amortización k | cupón de intereses]]="Amortización de K",SUMIFS($AH$7:$AH$557,Tabla3[Código Emisión],Tabla3[[#This Row],[Código Emisión]],Tabla3[Fecha de operación],Tabla3[[#This Row],[Fecha de operación]]),0)-Tabla3[[#This Row],[Accrued]]*Tabla3[[#This Row],[Valor Nominal]] -> 0 | AJ14: =+IF(Tabla3[[#This Row],[Amortización k | cupón de intereses]]="Amortización de K",IF(Tabla3[[#This Row],[Precio Clean]]>1,Tabla3[[#This Row],[Valor Nominal]]*(Tabla3[[#This Row],[Precio Clean]]-1),0),0) -> 0 | AK14: =+IF(Tabla3[[#This Row],[Amortización k | cupón de intereses]]="Amortización de K",IF(Tabla3[[#This Row],[Precio Clean]]<1,Tabla3[[#This Row],[Valor Nominal]]*(Tabla3[[#This Row],[Precio Clean]]-1),0),0) -> 0
B15: =+B14 -> Banco Basa SA | C15: =+C14 -> PYBAM01F0358 | D15: =+D14 -> Bonos Financieros | E15: =+E14 -> AA-py | F15: =+F14 -> Financiero | G15: =+G14 -> Paraguay | H15: =+H14 -> 50 | I15: 16.205479 | O15: =+O14 -> 0.066508695 | P15: =+P14 -> 0.06491147 | Q15: =+Q14 -> 45812 | R15: 46595 | S15: USD | T15: =Tabla3[[#This Row],[Cantidad]]*Tabla3[[#This Row],[Cortes]] -> 810.27395 | U15: =IF(X15="VIgente",(T15/(1+O15)^((R15-$U$5)/365))) -> 744.0925 | V15: =IF(X15="VIgente",(T15/(1+O15)^((R15-$V$5)/365))) -> 743.96125 | W15: =IF(Tabla3[[#This Row],[Fecha de operación]]=$C$1,0,U15-V15) -> 0.13125533 | X15: =IF(R15<=$U$5,"Vencido","Vigente") -> Vigente | Z15: =+R15-$U$5 -> 483 | AA15: =AA14 -> 2.7882992 | AB15: =AB14 -> 2.7426959 | AC15: Familiar CB | AD15: Cupón de Interés | AG15: =+IF(Tabla3[[#This Row],[Amortización k | cupón de intereses]]="Amortización de K",Tabla3[[#This Row],[Valor Nominal]],0) -> 0 | AH15: =+IF(AND(Tabla3[[#This Row],[Amortización k | cupón de intereses]]="Cupón de interés",Tabla3[[#This Row],[Estado]]="Vigente"),Tabla3[[#This Row],[Valor Nominal]],0) -> 810.27395 | AI15: =+IF(Tabla3[[#This Row],[Amortización k | cupón de intereses]]="Amortización de K",SUMIFS($AH$7:$AH$557,Tabla3[Código Emisión],Tabla3[[#This Row],[Código Emisión]],Tabla3[Fecha de operación],Tabla3[[#This Row],[Fecha de operación]]),0)-Tabla3[[#This Row],[Accrued]]*Tabla3[[#This Row],[Valor Nominal]] -> 0 | AJ15: =+IF(Tabla3[[#This Row],[Amortización k | cupón de intereses]]="Amortización de K",IF(Tabla3[[#This Row],[Precio Clean]]>1,Tabla3[[#This Row],[Valor Nominal]]*(Tabla3[[#This Row],[Precio Clean]]-1),0),0) -> 0 | AK15: =+IF(Tabla3[[#This Row],[Amortización k | cupón de intereses]]="Amortización de K",IF(Tabla3[[#This Row],[Precio Clean]]<1,Tabla3[[#This Row],[Valor Nominal]]*(Tabla3[[#This Row],[Precio Clean]]-1),0),0) -> 0 | AO15: Bonos financieros | AP15: =+AP16+AP17-AP18+AP19+AP20 -> 202287.06 | AQ15: =+SUMIFS(Tabla3[Valor Presente o Contable],Tabla3[Instrumento],AO15) -> 202287.06 | AR15: =+AP15-AQ15 -> 0
B16: =+B15 -> Banco Basa SA | C16: =+C15 -> PYBAM01F0358 | D16: =+D15 -> Bonos Financieros | E16: =+E15 -> AA-py | F16: =+F15 -> Financiero | G16: =+G15 -> Paraguay | H16: =+H15 -> 50 | I16: 16.205479 | O16: =+O15 -> 0.066508695 | P16: =+P15 -> 0.06491147 | Q16: =+Q15 -> 45812 | R16: 46504 | S16: USD | T16: =Tabla3[[#This Row],[Cantidad]]*Tabla3[[#This Row],[Cortes]] -> 810.27395 | U16: =IF(X16="VIgente",(T16/(1+O16)^((R16-$U$5)/365))) -> 756.13419 | V16: =IF(X16="VIgente",(T16/(1+O16)^((R16-$V$5)/365))) -> 756.00081 | W16: =IF(Tabla3[[#This Row],[Fecha de operación]]=$C$1,0,U16-V16) -> 0.13337945 | X16: =IF(R16<=$U$5,"Vencido","Vigente") -> Vigente | Z16: =+R16-$U$5 -> 392 | AA16: =AA15 -> 2.7882992 | AB16: =AB15 -> 2.7426959 | AC16: Familiar CB | AD16: Cupón de Interés | AG16: =+IF(Tabla3[[#This Row],[Amortización k | cupón de intereses]]="Amortización de K",Tabla3[[#This Row],[Valor Nominal]],0) -> 0 | AH16: =+IF(AND(Tabla3[[#This Row],[Amortización k | cupón de intereses]]="Cupón de interés",Tabla3[[#This Row],[Estado]]="Vigente"),Tabla3[[#This Row],[Valor Nominal]],0) -> 810.27395 | AI16: =+IF(Tabla3[[#This Row],[Amortización k | cupón de intereses]]="Amortización de K",SUMIFS($AH$7:$AH$557,Tabla3[Código Emisión],Tabla3[[#This Row],[Código Emisión]],Tabla3[Fecha de operación],Tabla3[[#This Row],[Fecha de operación]]),0)-Tabla3[[#This Row],[Accrued]]*Tabla3[[#This Row],[Valor Nominal]] -> 0 | AJ16: =+IF(Tabla3[[#This Row],[Amortización k | cupón de intereses]]="Amortización de K",IF(Tabla3[[#This Row],[Precio Clean]]>1,Tabla3[[#This Row],[Valor Nominal]]*(Tabla3[[#This Row],[Precio Clean]]-1),0),0) -> 0 | AK16: =+IF(Tabla3[[#This Row],[Amortización k | cupón de intereses]]="Amortización de K",IF(Tabla3[[#This Row],[Precio Clean]]<1,Tabla3[[#This Row],[Valor Nominal]]*(Tabla3[[#This Row],[Precio Clean]]-1),0),0) -> 0 | AN16: 12010115004001 | AO16: Bonos Financieros USD | AP16: =+SUMIF(Tabla3[Instrumento],$AO$15,$AG$7:$AG$520) -> 200000
B17: =+B16 -> Banco Basa SA | C17: =+C16 -> PYBAM01F0358 | D17: =+D16 -> Bonos Financieros | E17: =+E16 -> AA-py | F17: =+F16 -> Financiero | G17: =+G16 -> Paraguay | H17: =+H16 -> 50 | I17: 16.205479 | O17: =+O16 -> 0.066508695 | P17: =+P16 -> 0.06491147 | Q17: =+Q16 -> 45812 | R17: 46413 | S17: USD | T17: =Tabla3[[#This Row],[Cantidad]]*Tabla3[[#This Row],[Cortes]] -> 810.27395 | U17: =IF(X17="VIgente",(T17/(1+O17)^((R17-$U$5)/365))) -> 768.37075 | V17: =IF(X17="VIgente",(T17/(1+O17)^((R17-$V$5)/365))) -> 768.23521 | W17: =IF(Tabla3[[#This Row],[Fecha de operación]]=$C$1,0,U17-V17) -> 0.13553793 | X17: =IF(R17<=$U$5,"Vencido","Vigente") -> Vigente | Z17: =+R17-$U$5 -> 301 | AA17: =AA16 -> 2.7882992 | AB17: =AB16 -> 2.7426959 | AC17: Familiar CB | AD17: Cupón de Interés | AG17: =+IF(Tabla3[[#This Row],[Amortización k | cupón de intereses]]="Amortización de K",Tabla3[[#This Row],[Valor Nominal]],0) -> 0 | AH17: =+IF(AND(Tabla3[[#This Row],[Amortización k | cupón de intereses]]="Cupón de interés",Tabla3[[#This Row],[Estado]]="Vigente"),Tabla3[[#This Row],[Valor Nominal]],0) -> 810.27395 | AI17: =+IF(Tabla3[[#This Row],[Amortización k | cupón de intereses]]="Amortización de K",SUMIFS($AH$7:$AH$557,Tabla3[Código Emisión],Tabla3[[#This Row],[Código Emisión]],Tabla3[Fecha de operación],Tabla3[[#This Row],[Fecha de operación]]),0)-Tabla3[[#This Row],[Accrued]]*Tabla3[[#This Row],[Valor Nominal]] -> 0 | AJ17: =+IF(Tabla3[[#This Row],[Amortización k | cupón de intereses]]="Amortización de K",IF(Tabla3[[#This Row],[Precio Clean]]>1,Tabla3[[#This Row],[Valor Nominal]]*(Tabla3[[#This Row],[Precio Clean]]-1),0),0) -> 0 | AK17: =+IF(Tabla3[[#This Row],[Amortización k | cupón de intereses]]="Amortización de K",IF(Tabla3[[#This Row],[Precio Clean]]<1,Tabla3[[#This Row],[Valor Nominal]]*(Tabla3[[#This Row],[Precio Clean]]-1),0),0) -> 0 | AN17: 13080225004001 | AO17: Int. a cobrar - Bonos Financieros USD | AP17: =+SUMIF(Tabla3[Instrumento],$AO$15,$AH$7:$AH$197) -> 42347.944
B18: =+B17 -> Banco Basa SA | C18: =+C17 -> PYBAM01F0358 | D18: =+D17 -> Bonos Financieros | E18: =+E17 -> AA-py | F18: =+F17 -> Financiero | G18: =+G17 -> Paraguay | H18: =+H17 -> 50 | I18: 16.205479 | O18: =+O17 -> 0.066508695 | P18: =+P17 -> 0.06491147 | Q18: =+Q17 -> 45812 | R18: 46322 | S18: USD | T18: =Tabla3[[#This Row],[Cantidad]]*Tabla3[[#This Row],[Cortes]] -> 810.27395 | U18: =IF(X18="VIgente",(T18/(1+O18)^((R18-$U$5)/365))) -> 780.80533 | V18: =IF(X18="VIgente",(T18/(1+O18)^((R18-$V$5)/365))) -> 780.6676 | W18: =IF(Tabla3[[#This Row],[Fecha de operación]]=$C$1,0,U18-V18) -> 0.13773135 | X18: =IF(R18<=$U$5,"Vencido","Vigente") -> Vigente | Z18: =+R18-$U$5 -> 210 | AA18: =AA17 -> 2.7882992 | AB18: =AB17 -> 2.7426959 | AC18: Familiar CB | AD18: Cupón de Interés | AG18: =+IF(Tabla3[[#This Row],[Amortización k | cupón de intereses]]="Amortización de K",Tabla3[[#This Row],[Valor Nominal]],0) -> 0 | AH18: =+IF(AND(Tabla3[[#This Row],[Amortización k | cupón de intereses]]="Cupón de interés",Tabla3[[#This Row],[Estado]]="Vigente"),Tabla3[[#This Row],[Valor Nominal]],0) -> 810.27395 | AI18: =+IF(Tabla3[[#This Row],[Amortización k | cupón de intereses]]="Amortización de K",SUMIFS($AH$7:$AH$557,Tabla3[Código Emisión],Tabla3[[#This Row],[Código Emisión]],Tabla3[Fecha de operación],Tabla3[[#This Row],[Fecha de operación]]),0)-Tabla3[[#This Row],[Accrued]]*Tabla3[[#This Row],[Valor Nominal]] -> 0 | AJ18: =+IF(Tabla3[[#This Row],[Amortización k | cupón de intereses]]="Amortización de K",IF(Tabla3[[#This Row],[Precio Clean]]>1,Tabla3[[#This Row],[Valor Nominal]]*(Tabla3[[#This Row],[Precio Clean]]-1),0),0) -> 0 | AK18: =+IF(Tabla3[[#This Row],[Amortización k | cupón de intereses]]="Amortización de K",IF(Tabla3[[#This Row],[Precio Clean]]<1,Tabla3[[#This Row],[Valor Nominal]]*(Tabla3[[#This Row],[Precio Clean]]-1),0),0) -> 0 | AN18: 13080225904001 | AO18: (-) Int. a devengar - Bonos Financieros USD | AP18: =+SUMIF(Tabla3[Instrumento],$AO15,$AI$7:$AI$384) -> 40104.109
B19: =+B18 -> Banco Basa SA | C19: =+C18 -> PYBAM01F0358 | D19: =+D18 -> Bonos Financieros | E19: =+E18 -> AA-py | F19: =+F18 -> Financiero | G19: =+G18 -> Paraguay | H19: =+H18 -> 50 | I19: 16.205479 | O19: =+O18 -> 0.066508695 | P19: =+P18 -> 0.06491147 | Q19: =+Q18 -> 45812 | R19: 46231 | S19: USD | T19: =Tabla3[[#This Row],[Cantidad]]*Tabla3[[#This Row],[Cortes]] -> 810.27395 | U19: =IF(X19="VIgente",(T19/(1+O19)^((R19-$U$5)/365))) -> 793.44114 | V19: =IF(X19="VIgente",(T19/(1+O19)^((R19-$V$5)/365))) -> 793.30118 | W19: =IF(Tabla3[[#This Row],[Fecha de operación]]=$C$1,0,U19-V19) -> 0.13996026 | X19: =IF(R19<=$U$5,"Vencido","Vigente") -> Vigente | Z19: =+R19-$U$5 -> 119 | AA19: =AA18 -> 2.7882992 | AB19: =AB18 -> 2.7426959 | AC19: Familiar CB | AD19: Cupón de Interés | AG19: =+IF(Tabla3[[#This Row],[Amortización k | cupón de intereses]]="Amortización de K",Tabla3[[#This Row],[Valor Nominal]],0) -> 0 | AH19: =+IF(AND(Tabla3[[#This Row],[Amortización k | cupón de intereses]]="Cupón de interés",Tabla3[[#This Row],[Estado]]="Vigente"),Tabla3[[#This Row],[Valor Nominal]],0) -> 810.27395 | AI19: =+IF(Tabla3[[#This Row],[Amortización k | cupón de intereses]]="Amortización de K",SUMIFS($AH$7:$AH$557,Tabla3[Código Emisión],Tabla3[[#This Row],[Código Emisión]],Tabla3[Fecha de operación],Tabla3[[#This Row],[Fecha de operación]]),0)-Tabla3[[#This Row],[Accrued]]*Tabla3[[#This Row],[Valor Nominal]] -> 0 | AJ19: =+IF(Tabla3[[#This Row],[Amortización k | cupón de intereses]]="Amortización de K",IF(Tabla3[[#This Row],[Precio Clean]]>1,Tabla3[[#This Row],[Valor Nominal]]*(Tabla3[[#This Row],[Precio Clean]]-1),0),0) -> 0 | AK19: =+IF(Tabla3[[#This Row],[Amortización k | cupón de intereses]]="Amortización de K",IF(Tabla3[[#This Row],[Precio Clean]]<1,Tabla3[[#This Row],[Valor Nominal]]*(Tabla3[[#This Row],[Precio Clean]]-1),0),0) -> 0 | AN19: 12010121004001 | AO19: Dif. de Precio Positivo no Amort. - Bonos Financieros USD | AP19: =+SUMIF(Tabla3[Instrumento],$AO15,$AJ$7:$AJ$384) -> 43.224295
B20: =+B19 -> Banco Basa SA | C20: =+C19 -> PYBAM01F0358 | D20: =+D19 -> Bonos Financieros | E20: =+E19 -> AA-py | F20: =+F19 -> Financiero | G20: =+G19 -> Paraguay | H20: =+H19 -> 50 | I20: 16.205479 | O20: =+O19 -> 0.066508695 | P20: =+P19 -> 0.06491147 | Q20: =+Q19 -> 45812 | R20: 46140 | S20: USD | T20: =Tabla3[[#This Row],[Cantidad]]*Tabla3[[#This Row],[Cortes]] -> 810.27395 | U20: =IF(X20="VIgente",(T20/(1+O20)^((R20-$U$5)/365))) -> 806.28144 | V20: =IF(X20="VIgente",(T20/(1+O20)^((R20-$V$5)/365))) -> 806.13921 | W20: =IF(Tabla3[[#This Row],[Fecha de operación]]=$C$1,0,U20-V20) -> 0.14222525 | X20: =IF(R20<=$U$5,"Vencido","Vigente") -> Vigente | Z20: =+R20-$U$5 -> 28 | AA20: =AA19 -> 2.7882992 | AB20: =AB19 -> 2.7426959 | AC20: Familiar CB | AD20: Cupón de Interés | AG20: =+IF(Tabla3[[#This Row],[Amortización k | cupón de intereses]]="Amortización de K",Tabla3[[#This Row],[Valor Nominal]],0) -> 0 | AH20: =+IF(AND(Tabla3[[#This Row],[Amortización k | cupón de intereses]]="Cupón de interés",Tabla3[[#This Row],[Estado]]="Vigente"),Tabla3[[#This Row],[Valor Nominal]],0) -> 810.27395 | AI20: =+IF(Tabla3[[#This Row],[Amortización k | cupón de intereses]]="Amortización de K",SUMIFS($AH$7:$AH$557,Tabla3[Código Emisión],Tabla3[[#This Row],[Código Emisión]],Tabla3[Fecha de operación],Tabla3[[#This Row],[Fecha de operación]]),0)-Tabla3[[#This Row],[Accrued]]*Tabla3[[#This Row],[Valor Nominal]] -> 0 | AJ20: =+IF(Tabla3[[#This Row],[Amortización k | cupón de intereses]]="Amortización de K",IF(Tabla3[[#This Row],[Precio Clean]]>1,Tabla3[[#This Row],[Valor Nominal]]*(Tabla3[[#This Row],[Precio Clean]]-1),0),0) -> 0 | AK20: =+IF(Tabla3[[#This Row],[Amortización k | cupón de intereses]]="Amortización de K",IF(Tabla3[[#This Row],[Precio Clean]]<1,Tabla3[[#This Row],[Valor Nominal]]*(Tabla3[[#This Row],[Precio Clean]]-1),0),0) -> 0 | AN20: 22010110004001 | AO20: Dif. de Precio Negativo no Amort. - Bonos Financieros USD | AP20: =+SUMIF(Tabla3[Instrumento],$AO15,$AK$7:$AK$384) -> 0
B21: =+B20 -> Banco Basa SA | C21: =+C20 -> PYBAM01F0358 | D21: =+D20 -> Bonos Financieros | E21: =+E20 -> AA-py | F21: =+F20 -> Financiero | G21: =+G20 -> Paraguay | H21: =+H20 -> 50 | I21: 16.205479 | O21: =+O20 -> 0.066508695 | P21: =+P20 -> 0.06491147 | Q21: =+Q20 -> 45812 | R21: 46049 | S21: USD | T21: =Tabla3[[#This Row],[Cantidad]]*Tabla3[[#This Row],[Cortes]] -> 810.27395 | U21: =IF(X21="VIgente",(T21/(1+O21)^((R21-$U$5)/365))) -> FALSE | V21: =IF(X21="VIgente",(T21/(1+O21)^((R21-$V$5)/365))) -> FALSE | W21: =IF(Tabla3[[#This Row],[Fecha de operación]]=$C$1,0,U21-V21) -> 0 | X21: =IF(R21<=$U$5,"Vencido","Vigente") -> Vencido | Z21: =+R21-$U$5 -> -63 | AA21: =AA20 -> 2.7882992 | AB21: =AB20 -> 2.7426959 | AC21: Familiar CB | AD21: Cupón de Interés | AG21: =+IF(Tabla3[[#This Row],[Amortización k | cupón de intereses]]="Amortización de K",Tabla3[[#This Row],[Valor Nominal]],0) -> 0 | AH21: =+IF(AND(Tabla3[[#This Row],[Amortización k | cupón de intereses]]="Cupón de interés",Tabla3[[#This Row],[Estado]]="Vigente"),Tabla3[[#This Row],[Valor Nominal]],0) -> 0 | AI21: =+IF(Tabla3[[#This Row],[Amortización k | cupón de intereses]]="Amortización de K",SUMIFS($AH$7:$AH$557,Tabla3[Código Emisión],Tabla3[[#This Row],[Código Emisión]],Tabla3[Fecha de operación],Tabla3[[#This Row],[Fecha de operación]]),0)-Tabla3[[#This Row],[Accrued]]*Tabla3[[#This Row],[Valor Nominal]] -> 0 | AJ21: =+IF(Tabla3[[#This Row],[Amortización k | cupón de intereses]]="Amortización de K",IF(Tabla3[[#This Row],[Precio Clean]]>1,Tabla3[[#This Row],[Valor Nominal]]*(Tabla3[[#This Row],[Precio Clean]]-1),0),0) -> 0 | AK21: =+IF(Tabla3[[#This Row],[Amortización k | cupón de intereses]]="Amortización de K",IF(Tabla3[[#This Row],[Precio Clean]]<1,Tabla3[[#This Row],[Valor Nominal]]*(Tabla3[[#This Row],[Precio Clean]]-1),0),0) -> 0
B22: =+B21 -> Banco Basa SA | C22: =+C21 -> PYBAM01F0358 | D22: =+D21 -> Bonos Financieros | E22: =+E21 -> AA-py | F22: =+F21 -> Financiero | G22: =+G21 -> Paraguay | H22: =+H21 -> 50 | I22: 16.205479 | O22: =+O21 -> 0.066508695 | P22: =+P21 -> 0.06491147 | Q22: =+Q21 -> 45812 | R22: 45958 | S22: USD | T22: =Tabla3[[#This Row],[Cantidad]]*Tabla3[[#This Row],[Cortes]] -> 810.27395 | U22: =IF(X22="VIgente",(T22/(1+O22)^((R22-$U$5)/365))) -> FALSE | V22: =IF(X22="VIgente",(T22/(1+O22)^((R22-$V$5)/365))) -> FALSE | W22: =IF(Tabla3[[#This Row],[Fecha de operación]]=$C$1,0,U22-V22) -> 0 | X22: =IF(R22<=$U$5,"Vencido","Vigente") -> Vencido | Z22: =+R22-$U$5 -> -154 | AA22: =AA21 -> 2.7882992 | AB22: =AB21 -> 2.7426959 | AC22: Familiar CB | AD22: Cupón de Interés | AG22: =+IF(Tabla3[[#This Row],[Amortización k | cupón de intereses]]="Amortización de K",Tabla3[[#This Row],[Valor Nominal]],0) -> 0 | AH22: =+IF(AND(Tabla3[[#This Row],[Amortización k | cupón de intereses]]="Cupón de interés",Tabla3[[#This Row],[Estado]]="Vigente"),Tabla3[[#This Row],[Valor Nominal]],0) -> 0 | AI22: =+IF(Tabla3[[#This Row],[Amortización k | cupón de intereses]]="Amortización de K",SUMIFS($AH$7:$AH$557,Tabla3[Código Emisión],Tabla3[[#This Row],[Código Emisión]],Tabla3[Fecha de operación],Tabla3[[#This Row],[Fecha de operación]]),0)-Tabla3[[#This Row],[Accrued]]*Tabla3[[#This Row],[Valor Nominal]] -> 0 | AJ22: =+IF(Tabla3[[#This Row],[Amortización k | cupón de intereses]]="Amortización de K",IF(Tabla3[[#This Row],[Precio Clean]]>1,Tabla3[[#This Row],[Valor Nominal]]*(Tabla3[[#This Row],[Precio Clean]]-1),0),0) -> 0 | AK22: =+IF(Tabla3[[#This Row],[Amortización k | cupón de intereses]]="Amortización de K",IF(Tabla3[[#This Row],[Precio Clean]]<1,Tabla3[[#This Row],[Valor Nominal]]*(Tabla3[[#This Row],[Precio Clean]]-1),0),0) -> 0 | AO22: Bonos en el exterior | AP22: =+AP23+AP24-AP25+AP26+AP27 -> 1944067.5 | AQ22: =+SUMIFS(Tabla3[Valor Presente o Contable],Tabla3[Instrumento],AO22) -> 1944067.5 | AR22: =+AP22-AQ22 -> 0
A23: =+A7+1 -> 2 | B23: Banco Basa SA | C23: BASA_5,15%_30062027_AA2367-68_100K | D23: CDA | E23: AA-py | F23: Financiero | G23: Paraguay | H23: 2 | I23: 100000 | J23: 0.0515 | K23: =_xlfn.MAXIFS(R:R,C:C,C23,AD:AD,"Cupón de interés",X:X,"Vencido") -> 46111 | L23: =+Tabla3[[#This Row],[Tasa de Interés]]*($U$5-Tabla3[[#This Row],[Last coupon]])/365 -> 0.00014109589 | M23: =+Tabla3[[#This Row],[Precio Dirty]]-Tabla3[[#This Row],[Accrued]] -> 0.98378123 | N23: =SUMIFS(U:U,C:C,C23,Q:Q,Q23)/SUMIFS(T:T,C:C,C23,Q:Q,Q23,AD:AD,"Amortización de K") -> 0.98392232 | O23: 0.066607305 | P23: 0.065005428 | Q23: 45812 | R23: 46568 | S23: USD | T23: =Tabla3[[#This Row],[Cantidad]]*Tabla3[[#This Row],[Cortes]] -> 200000 | U23: =IF(X23="VIgente",(T23/(1+O23)^((R23-$U$5)/365))) -> 184520.02 | V23: =IF(X23="VIgente",(T23/(1+O23)^((R23-$V$5)/365))) -> 184487.42 | W23: =IF(Tabla3[[#This Row],[Fecha de operación]]=$C$1,0,U23-V23) -> 32.595422 | X23: =IF(R23<=$U$5,"Vencido","Vigente") -> Vigente | Y23: Trimestral | Z23: =+R23-$U$5 -> 456 | AA23: =IF(Y23="Mensual",DURATION($C$1,$C$1+Z23*12,J23/12,O23/12,1)/12,DURATION($C$1,R23,J23,O23,IF(Y23="Cupón cero",1,IF(Y23="Al vencimiento",1,IF(Y23="Anual",1,IF(Y23="Semestral",2,IF(Y23="Trimestral",4,""))))))) -> 1.2182839 | AB23: =IF(Y23="Mensual",MDURATION($C$1,$C$1+Z23*12,J23/12,O23/12,1)/12,MDURATION($C$1,R23,J23,O23,IF(Y23="Cupón cero",1,IF(Y23="Al vencimiento",1,IF(Y23="Anual",1,IF(Y23="Semestral",2,IF(Y23="Trimestral",4,""))))))) -> 1.1983295 | AC23: Familiar CB | AD23: Amortización de K | AG23: =+IF(Tabla3[[#This Row],[Amortización k | cupón de intereses]]="Amortización de K",Tabla3[[#This Row],[Valor Nominal]],0) -> 200000 | AH23: =+IF(AND(Tabla3[[#This Row],[Amortización k | cupón de intereses]]="Cupón de interés",Tabla3[[#This Row],[Estado]]="Vigente"),Tabla3[[#This Row],[Valor Nominal]],0) -> 0 | AI23: =+IF(Tabla3[[#This Row],[Amortización k | cupón de intereses]]="Amortización de K",SUMIFS($AH$7:$AH$557,Tabla3[Código Emisión],Tabla3[[#This Row],[Código Emisión]],Tabla3[Fecha de operación],Tabla3[[#This Row],[Fecha de operación]]),0)-Tabla3[[#This Row],[Accrued]]*Tabla3[[#This Row],[Valor Nominal]] -> 12839.781 | AJ23: =+IF(Tabla3[[#This Row],[Amortización k | cupón de intereses]]="Amortización de K",IF(Tabla3[[#This Row],[Precio Clean]]>1,Tabla3[[#This Row],[Valor Nominal]]*(Tabla3[[#This Row],[Precio Clean]]-1),0),0) -> 0 | AK23: =+IF(Tabla3[[#This Row],[Amortización k | cupón de intereses]]="Amortización de K",IF(Tabla3[[#This Row],[Precio Clean]]<1,Tabla3[[#This Row],[Valor Nominal]]*(Tabla3[[#This Row],[Precio Clean]]-1),0),0) -> -3243.7545 | AN23: 12010125001001 | AO23: Bonos en el exterior USD | AP23: =+SUMIF(Tabla3[Instrumento],$AO$22,$AG$7:$AG$520) -> 2050000
B24: =+B23 -> Banco Basa SA | C24: BASA_5,15%_30062027_AA2367-68_100K | D24: =+D23 -> CDA | E24: =+E23 -> AA-py | F24: =+F23 -> Financiero | G24: =+G23 -> Paraguay | H24: =+H23 -> 2 | I24: 1312 | O24: 0.066607305 | P24: 0.065005428 | Q24: =+Q23 -> 45812 | R24: 46568 | S24: USD | T24: =Tabla3[[#This Row],[Cantidad]]*Tabla3[[#This Row],[Cortes]] -> 2624 | U24: =IF(X24="VIgente",(T24/(1+O24)^((R24-$U$5)/365))) -> 2420.9026 | V24: =IF(X24="VIgente",(T24/(1+O24)^((R24-$V$5)/365))) -> 2420.475 | W24: =IF(Tabla3[[#This Row],[Fecha de operación]]=$C$1,0,U24-V24) -> 0.42765193 | X24: =IF(R24<=$U$5,"Vencido","Vigente") -> Vigente | Z24: =+R24-$U$5 -> 456 | AA24: =AA23 -> 1.2182839 | AB24: =AB23 -> 1.1983295 | AC24: Familiar CB | AD24: Cupón de Interés | AG24: =+IF(Tabla3[[#This Row],[Amortización k | cupón de intereses]]="Amortización de K",Tabla3[[#This Row],[Valor Nominal]],0) -> 0 | AH24: =+IF(AND(Tabla3[[#This Row],[Amortización k | cupón de intereses]]="Cupón de interés",Tabla3[[#This Row],[Estado]]="Vigente"),Tabla3[[#This Row],[Valor Nominal]],0) -> 2624 | AI24: =+IF(Tabla3[[#This Row],[Amortización k | cupón de intereses]]="Amortización de K",SUMIFS($AH$7:$AH$557,Tabla3[Código Emisión],Tabla3[[#This Row],[Código Emisión]],Tabla3[Fecha de operación],Tabla3[[#This Row],[Fecha de operación]]),0)-Tabla3[[#This Row],[Accrued]]*Tabla3[[#This Row],[Valor Nominal]] -> 0 | AJ24: =+IF(Tabla3[[#This Row],[Amortización k | cupón de intereses]]="Amortización de K",IF(Tabla3[[#This Row],[Precio Clean]]>1,Tabla3[[#This Row],[Valor Nominal]]*(Tabla3[[#This Row],[Precio Clean]]-1),0),0) -> 0 | AK24: =+IF(Tabla3[[#This Row],[Amortización k | cupón de intereses]]="Amortización de K",IF(Tabla3[[#This Row],[Precio Clean]]<1,Tabla3[[#This Row],[Valor Nominal]]*(Tabla3[[#This Row],[Precio Clean]]-1),0),0) -> 0 | AN24: 13080229001001 | AO24: Intereses a cobrar - Bonos en el exterior USD | AP24: =+SUMIF(Tabla3[Instrumento],$AO$22,$AH$7:$AH$197) -> 492937.5
B25: =+B24 -> Banco Basa SA | C25: BASA_5,15%_30062027_AA2367-68_100K | D25: =+D24 -> CDA | E25: =+E24 -> AA-py | F25: =+F24 -> Financiero | G25: =+G24 -> Paraguay | H25: =+H24 -> 2 | I25: 1270 | O25: 0.066607305 | P25: 0.065005428 | Q25: =+Q24 -> 45812 | R25: 46475 | S25: USD | T25: =Tabla3[[#This Row],[Cantidad]]*Tabla3[[#This Row],[Cortes]] -> 2540 | U25: =IF(X25="VIgente",(T25/(1+O25)^((R25-$U$5)/365))) -> 2382.2241 | V25: =IF(X25="VIgente",(T25/(1+O25)^((R25-$V$5)/365))) -> 2381.8033 | W25: =IF(Tabla3[[#This Row],[Fecha de operación]]=$C$1,0,U25-V25) -> 0.42081938 | X25: =IF(R25<=$U$5,"Vencido","Vigente") -> Vigente | Z25: =+R25-$U$5 -> 363 | AA25: =AA24 -> 1.2182839 | AB25: =AB24 -> 1.1983295 | AC25: Familiar CB | AD25: Cupón de Interés | AG25: =+IF(Tabla3[[#This Row],[Amortización k | cupón de intereses]]="Amortización de K",Tabla3[[#This Row],[Valor Nominal]],0) -> 0 | AH25: =+IF(AND(Tabla3[[#This Row],[Amortización k | cupón de intereses]]="Cupón de interés",Tabla3[[#This Row],[Estado]]="Vigente"),Tabla3[[#This Row],[Valor Nominal]],0) -> 2540 | AI25: =+IF(Tabla3[[#This Row],[Amortización k | cupón de intereses]]="Amortización de K",SUMIFS($AH$7:$AH$557,Tabla3[Código Emisión],Tabla3[[#This Row],[Código Emisión]],Tabla3[Fecha de operación],Tabla3[[#This Row],[Fecha de operación]]),0)-Tabla3[[#This Row],[Accrued]]*Tabla3[[#This Row],[Valor Nominal]] -> 0 | AJ25: =+IF(Tabla3[[#This Row],[Amortización k | cupón de intereses]]="Amortización de K",IF(Tabla3[[#This Row],[Precio Clean]]>1,Tabla3[[#This Row],[Valor Nominal]]*(Tabla3[[#This Row],[Precio Clean]]-1),0),0) -> 0 | AK25: =+IF(Tabla3[[#This Row],[Amortización k | cupón de intereses]]="Amortización de K",IF(Tabla3[[#This Row],[Precio Clean]]<1,Tabla3[[#This Row],[Valor Nominal]]*(Tabla3[[#This Row],[Precio Clean]]-1),0),0) -> 0 | AN25: 13080229901001 | AO25: (-) Intereses a devengar - Bonos en el exterior USD | AP25: =+SUMIF(Tabla3[Instrumento],$AO22,$AI$7:$AI$384) -> 470142.98
B26: =+B25 -> Banco Basa SA | C26: BASA_5,15%_30062027_AA2367-68_100K | D26: =+D25 -> CDA | E26: =+E25 -> AA-py | F26: =+F25 -> Financiero | G26: =+G25 -> Paraguay | H26: =+H25 -> 2 | I26: 1284 | O26: 0.066607305 | P26: 0.065005428 | Q26: =+Q25 -> 45812 | R26: 46385 | S26: USD | T26: =Tabla3[[#This Row],[Cantidad]]*Tabla3[[#This Row],[Cortes]] -> 2568 | U26: =IF(X26="VIgente",(T26/(1+O26)^((R26-$U$5)/365))) -> 2447.0855 | V26: =IF(X26="VIgente",(T26/(1+O26)^((R26-$V$5)/365))) -> 2446.6532 | W26: =IF(Tabla3[[#This Row],[Fecha de operación]]=$C$1,0,U26-V26) -> 0.43227714 | X26: =IF(R26<=$U$5,"Vencido","Vigente") -> Vigente | Z26: =+R26-$U$5 -> 273 | AA26: =AA25 -> 1.2182839 | AB26: =AB25 -> 1.1983295 | AC26: Familiar CB | AD26: Cupón de Interés | AG26: =+IF(Tabla3[[#This Row],[Amortización k | cupón de intereses]]="Amortización de K",Tabla3[[#This Row],[Valor Nominal]],0) -> 0 | AH26: =+IF(AND(Tabla3[[#This Row],[Amortización k | cupón de intereses]]="Cupón de interés",Tabla3[[#This Row],[Estado]]="Vigente"),Tabla3[[#This Row],[Valor Nominal]],0) -> 2568 | AI26: =+IF(Tabla3[[#This Row],[Amortización k | cupón de intereses]]="Amortización de K",SUMIFS($AH$7:$AH$557,Tabla3[Código Emisión],Tabla3[[#This Row],[Código Emisión]],Tabla3[Fecha de operación],Tabla3[[#This Row],[Fecha de operación]]),0)-Tabla3[[#This Row],[Accrued]]*Tabla3[[#This Row],[Valor Nominal]] -> 0 | AJ26: =+IF(Tabla3[[#This Row],[Amortización k | cupón de intereses]]="Amortización de K",IF(Tabla3[[#This Row],[Precio Clean]]>1,Tabla3[[#This Row],[Valor Nominal]]*(Tabla3[[#This Row],[Precio Clean]]-1),0),0) -> 0 | AK26: =+IF(Tabla3[[#This Row],[Amortización k | cupón de intereses]]="Amortización de K",IF(Tabla3[[#This Row],[Precio Clean]]<1,Tabla3[[#This Row],[Valor Nominal]]*(Tabla3[[#This Row],[Precio Clean]]-1),0),0) -> 0 | AN26: 12010259001001 | AO26: Dif. de precio positivo no amort. - Bonos en el exterior USD | AP26: =+SUMIF(Tabla3[Instrumento],$AO22,$AJ$7:$AJ$384) -> 0
B27: =+B26 -> Banco Basa SA | C27: BASA_5,15%_30062027_AA2367-68_100K | D27: =+D26 -> CDA | E27: =+E26 -> AA-py | F27: =+F26 -> Financiero | G27: =+G26 -> Paraguay | H27: =+H26 -> 2 | I27: 1284 | O27: 0.066607305 | P27: 0.065005428 | Q27: =+Q26 -> 45812 | R27: 46294 | S27: USD | T27: =Tabla3[[#This Row],[Cantidad]]*Tabla3[[#This Row],[Cortes]] -> 2568 | U27: =IF(X27="VIgente",(T27/(1+O27)^((R27-$U$5)/365))) -> 2486.7441 | V27: =IF(X27="VIgente",(T27/(1+O27)^((R27-$V$5)/365))) -> 2486.3049 | W27: =IF(Tabla3[[#This Row],[Fecha de operación]]=$C$1,0,U27-V27) -> 0.43928283 | X27: =IF(R27<=$U$5,"Vencido","Vigente") -> Vigente | Z27: =+R27-$U$5 -> 182 | AA27: =AA26 -> 1.2182839 | AB27: =AB26 -> 1.1983295 | AC27: Familiar CB | AD27: Cupón de Interés | AG27: =+IF(Tabla3[[#This Row],[Amortización k | cupón de intereses]]="Amortización de K",Tabla3[[#This Row],[Valor Nominal]],0) -> 0 | AH27: =+IF(AND(Tabla3[[#This Row],[Amortización k | cupón de intereses]]="Cupón de interés",Tabla3[[#This Row],[Estado]]="Vigente"),Tabla3[[#This Row],[Valor Nominal]],0) -> 2568 | AI27: =+IF(Tabla3[[#This Row],[Amortización k | cupón de intereses]]="Amortización de K",SUMIFS($AH$7:$AH$557,Tabla3[Código Emisión],Tabla3[[#This Row],[Código Emisión]],Tabla3[Fecha de operación],Tabla3[[#This Row],[Fecha de operación]]),0)-Tabla3[[#This Row],[Accrued]]*Tabla3[[#This Row],[Valor Nominal]] -> 0 | AJ27: =+IF(Tabla3[[#This Row],[Amortización k | cupón de intereses]]="Amortización de K",IF(Tabla3[[#This Row],[Precio Clean]]>1,Tabla3[[#This Row],[Valor Nominal]]*(Tabla3[[#This Row],[Precio Clean]]-1),0),0) -> 0 | AK27: =+IF(Tabla3[[#This Row],[Amortización k | cupón de intereses]]="Amortización de K",IF(Tabla3[[#This Row],[Precio Clean]]<1,Tabla3[[#This Row],[Valor Nominal]]*(Tabla3[[#This Row],[Precio Clean]]-1),0),0) -> 0 | AN27: 22010146001001 | AO27: Dif. de precio negativo no amort. - Bonos en el exterior USD | AP27: =+SUMIF(Tabla3[Instrumento],$AO22,$AK$7:$AK$384) -> -128727.03
B28: =+B27 -> Banco Basa SA | C28: BASA_5,15%_30062027_AA2367-68_100K | D28: =+D27 -> CDA | E28: =+E27 -> AA-py | F28: =+F27 -> Financiero | G28: =+G27 -> Paraguay | H28: =+H27 -> 2 | I28: 1284 | O28: 0.066607305 | P28: 0.065005428 | Q28: =+Q27 -> 45812 | R28: 46202 | S28: USD | T28: =Tabla3[[#This Row],[Cantidad]]*Tabla3[[#This Row],[Cortes]] -> 2568 | U28: =IF(X28="VIgente",(T28/(1+O28)^((R28-$U$5)/365))) -> 2527.492 | V28: =IF(X28="VIgente",(T28/(1+O28)^((R28-$V$5)/365))) -> 2527.0455 | W28: =IF(Tabla3[[#This Row],[Fecha de operación]]=$C$1,0,U28-V28) -> 0.44648092 | X28: =IF(R28<=$U$5,"Vencido","Vigente") -> Vigente | Z28: =+R28-$U$5 -> 90 | AA28: =AA27 -> 1.2182839 | AB28: =AB27 -> 1.1983295 | AC28: Familiar CB | AD28: Cupón de Interés | AG28: =+IF(Tabla3[[#This Row],[Amortización k | cupón de intereses]]="Amortización de K",Tabla3[[#This Row],[Valor Nominal]],0) -> 0 | AH28: =+IF(AND(Tabla3[[#This Row],[Amortización k | cupón de intereses]]="Cupón de interés",Tabla3[[#This Row],[Estado]]="Vigente"),Tabla3[[#This Row],[Valor Nominal]],0) -> 2568 | AI28: =+IF(Tabla3[[#This Row],[Amortización k | cupón de intereses]]="Amortización de K",SUMIFS($AH$7:$AH$557,Tabla3[Código Emisión],Tabla3[[#This Row],[Código Emisión]],Tabla3[Fecha de operación],Tabla3[[#This Row],[Fecha de operación]]),0)-Tabla3[[#This Row],[Accrued]]*Tabla3[[#This Row],[Valor Nominal]] -> 0 | AJ28: =+IF(Tabla3[[#This Row],[Amortización k | cupón de intereses]]="Amortización de K",IF(Tabla3[[#This Row],[Precio Clean]]>1,Tabla3[[#This Row],[Valor Nominal]]*(Tabla3[[#This Row],[Precio Clean]]-1),0),0) -> 0 | AK28: =+IF(Tabla3[[#This Row],[Amortización k | cupón de intereses]]="Amortización de K",IF(Tabla3[[#This Row],[Precio Clean]]<1,Tabla3[[#This Row],[Valor Nominal]]*(Tabla3[[#This Row],[Precio Clean]]-1),0),0) -> 0
B29: =+B28 -> Banco Basa SA | C29: BASA_5,15%_30062027_AA2367-68_100K | D29: =+D28 -> CDA | E29: =+E28 -> AA-py | F29: =+F28 -> Financiero | G29: =+G28 -> Paraguay | H29: =+H28 -> 2 | I29: 1284 | O29: 0.066607305 | P29: 0.065005428 | Q29: =+Q28 -> 45812 | R29: 46111 | S29: USD | T29: =Tabla3[[#This Row],[Cantidad]]*Tabla3[[#This Row],[Cortes]] -> 2568 | U29: =IF(X29="VIgente",(T29/(1+O29)^((R29-$U$5)/365))) -> FALSE | V29: =IF(X29="VIgente",(T29/(1+O29)^((R29-$V$5)/365))) -> FALSE | W29: =IF(Tabla3[[#This Row],[Fecha de operación]]=$C$1,0,U29-V29) -> 0 | X29: =IF(R29<=$U$5,"Vencido","Vigente") -> Vencido | Z29: =+R29-$U$5 -> -1 | AA29: =AA28 -> 1.2182839 | AB29: =AB28 -> 1.1983295 | AC29: Familiar CB | AD29: Cupón de Interés | AG29: =+IF(Tabla3[[#This Row],[Amortización k | cupón de intereses]]="Amortización de K",Tabla3[[#This Row],[Valor Nominal]],0) -> 0 | AH29: =+IF(AND(Tabla3[[#This Row],[Amortización k | cupón de intereses]]="Cupón de interés",Tabla3[[#This Row],[Estado]]="Vigente"),Tabla3[[#This Row],[Valor Nominal]],0) -> 0 | AI29: =+IF(Tabla3[[#This Row],[Amortización k | cupón de intereses]]="Amortización de K",SUMIFS($AH$7:$AH$557,Tabla3[Código Emisión],Tabla3[[#This Row],[Código Emisión]],Tabla3[Fecha de operación],Tabla3[[#This Row],[Fecha de operación]]),0)-Tabla3[[#This Row],[Accrued]]*Tabla3[[#This Row],[Valor Nominal]] -> 0 | AJ29: =+IF(Tabla3[[#This Row],[Amortización k | cupón de intereses]]="Amortización de K",IF(Tabla3[[#This Row],[Precio Clean]]>1,Tabla3[[#This Row],[Valor Nominal]]*(Tabla3[[#This Row],[Precio Clean]]-1),0),0) -> 0 | AK29: =+IF(Tabla3[[#This Row],[Amortización k | cupón de intereses]]="Amortización de K",IF(Tabla3[[#This Row],[Precio Clean]]<1,Tabla3[[#This Row],[Valor Nominal]]*(Tabla3[[#This Row],[Precio Clean]]-1),0),0) -> 0 | AO29: Bonos soberanos extranjeros | AP29: =+AP30+AP31-AP32+AP33+AP34 -> 1502186 | AQ29: =+SUMIFS(Tabla3[Valor Presente o Contable],Tabla3[Instrumento],AO29) -> 1502186 | AR29: =+AP29-AQ29 -> 0
B30: =+B29 -> Banco Basa SA | C30: BASA_5,15%_30062027_AA2367-68_100K | D30: =+D29 -> CDA | E30: =+E29 -> AA-py | F30: =+F29 -> Financiero | G30: =+G29 -> Paraguay | H30: =+H29 -> 2 | I30: 1284 | O30: 0.066607305 | P30: 0.065005428 | Q30: =+Q29 -> 45812 | R30: 46020 | S30: USD | T30: =Tabla3[[#This Row],[Cantidad]]*Tabla3[[#This Row],[Cortes]] -> 2568 | U30: =IF(X30="VIgente",(T30/(1+O30)^((R30-$U$5)/365))) -> FALSE | V30: =IF(X30="VIgente",(T30/(1+O30)^((R30-$V$5)/365))) -> FALSE | W30: =IF(Tabla3[[#This Row],[Fecha de operación]]=$C$1,0,U30-V30) -> 0 | X30: =IF(R30<=$U$5,"Vencido","Vigente") -> Vencido | Z30: =+R30-$U$5 -> -92 | AA30: =AA29 -> 1.2182839 | AB30: =AB29 -> 1.1983295 | AC30: Familiar CB | AD30: Cupón de Interés | AG30: =+IF(Tabla3[[#This Row],[Amortización k | cupón de intereses]]="Amortización de K",Tabla3[[#This Row],[Valor Nominal]],0) -> 0 | AH30: =+IF(AND(Tabla3[[#This Row],[Amortización k | cupón de intereses]]="Cupón de interés",Tabla3[[#This Row],[Estado]]="Vigente"),Tabla3[[#This Row],[Valor Nominal]],0) -> 0 | AI30: =+IF(Tabla3[[#This Row],[Amortización k | cupón de intereses]]="Amortización de K",SUMIFS($AH$7:$AH$557,Tabla3[Código Emisión],Tabla3[[#This Row],[Código Emisión]],Tabla3[Fecha de operación],Tabla3[[#This Row],[Fecha de operación]]),0)-Tabla3[[#This Row],[Accrued]]*Tabla3[[#This Row],[Valor Nominal]] -> 0 | AJ30: =+IF(Tabla3[[#This Row],[Amortización k | cupón de intereses]]="Amortización de K",IF(Tabla3[[#This Row],[Precio Clean]]>1,Tabla3[[#This Row],[Valor Nominal]]*(Tabla3[[#This Row],[Precio Clean]]-1),0),0) -> 0 | AK30: =+IF(Tabla3[[#This Row],[Amortización k | cupón de intereses]]="Amortización de K",IF(Tabla3[[#This Row],[Precio Clean]]<1,Tabla3[[#This Row],[Valor Nominal]]*(Tabla3[[#This Row],[Precio Clean]]-1),0),0) -> 0 | AN30: 12010125002001 | AO30: Bonos soberanos extranjeros USD | AP30: =+SUMIF(Tabla3[Instrumento],$AO$29,$AG$7:$AG$520) -> 1500000
B31: =+B30 -> Banco Basa SA | C31: BASA_5,15%_30062027_AA2367-68_100K | D31: =+D30 -> CDA | E31: =+E30 -> AA-py | F31: =+F30 -> Financiero | G31: =+G30 -> Paraguay | H31: =+H30 -> 2 | I31: 1284 | O31: 0.066607305 | P31: 0.065005428 | Q31: =+Q30 -> 45812 | R31: 45929 | S31: USD | T31: =Tabla3[[#This Row],[Cantidad]]*Tabla3[[#This Row],[Cortes]] -> 2568 | U31: =IF(X31="VIgente",(T31/(1+O31)^((R31-$U$5)/365))) -> FALSE | V31: =IF(X31="VIgente",(T31/(1+O31)^((R31-$V$5)/365))) -> FALSE | W31: =IF(Tabla3[[#This Row],[Fecha de operación]]=$C$1,0,U31-V31) -> 0 | X31: =IF(R31<=$U$5,"Vencido","Vigente") -> Vencido | Z31: =+R31-$U$5 -> -183 | AA31: =AA30 -> 1.2182839 | AB31: =AB30 -> 1.1983295 | AC31: Familiar CB | AD31: Cupón de Interés | AG31: =+IF(Tabla3[[#This Row],[Amortización k | cupón de intereses]]="Amortización de K",Tabla3[[#This Row],[Valor Nominal]],0) -> 0 | AH31: =+IF(AND(Tabla3[[#This Row],[Amortización k | cupón de intereses]]="Cupón de interés",Tabla3[[#This Row],[Estado]]="Vigente"),Tabla3[[#This Row],[Valor Nominal]],0) -> 0 | AI31: =+IF(Tabla3[[#This Row],[Amortización k | cupón de intereses]]="Amortización de K",SUMIFS($AH$7:$AH$557,Tabla3[Código Emisión],Tabla3[[#This Row],[Código Emisión]],Tabla3[Fecha de operación],Tabla3[[#This Row],[Fecha de operación]]),0)-Tabla3[[#This Row],[Accrued]]*Tabla3[[#This Row],[Valor Nominal]] -> 0 | AJ31: =+IF(Tabla3[[#This Row],[Amortización k | cupón de intereses]]="Amortización de K",IF(Tabla3[[#This Row],[Precio Clean]]>1,Tabla3[[#This Row],[Valor Nominal]]*(Tabla3[[#This Row],[Precio Clean]]-1),0),0) -> 0 | AK31: =+IF(Tabla3[[#This Row],[Amortización k | cupón de intereses]]="Amortización de K",IF(Tabla3[[#This Row],[Precio Clean]]<1,Tabla3[[#This Row],[Valor Nominal]]*(Tabla3[[#This Row],[Precio Clean]]-1),0),0) -> 0 | AN31: 13080229002001 | AO31: Intereses a cobrar - Bonos Soberanos extranjeros | AP31: =+SUMIF(Tabla3[Instrumento],$AO$29,$AH$7:$AH$197) -> 455000
A32: =A23+1 -> 3 | B32: Banco Basa SA | C32: PYBAM01F0358 | D32: Bonos Financieros | E32: AA-py | F32: Financiero | G32: Paraguay | H32: 150 | I32: 1000 | J32: 0.065 | K32: =_xlfn.MAXIFS(R:R,C:C,C32,AD:AD,"Cupón de interés",X:X,"Vencido") -> 46049 | L32: =+Tabla3[[#This Row],[Tasa de Interés]]*($U$5-Tabla3[[#This Row],[Last coupon]])/365 -> 0.011219178 | M32: =+Tabla3[[#This Row],[Precio Dirty]]-Tabla3[[#This Row],[Accrued]] -> 1.0002167 | N32: =SUMIFS(U:U,C:C,C32,Q:Q,Q32)/SUMIFS(T:T,C:C,C32,Q:Q,Q32,AD:AD,"Amortización de K") -> 1.0114359 | O32: 0.066507742 | P32: 0.06491147 | Q32: 45819 | R32: 47238 | S32: USD | T32: =Tabla3[[#This Row],[Cantidad]]*Tabla3[[#This Row],[Cortes]] -> 150000 | U32: =IF(X32="VIgente",(T32/(1+O32)^((R32-$U$5)/365))) -> 122977.09 | V32: =IF(X32="VIgente",(T32/(1+O32)^((R32-$V$5)/365))) -> 122955.39 | W32: =IF(Tabla3[[#This Row],[Fecha de operación]]=$C$1,0,U32-V32) -> 21.69243 | X32: =IF(R32<=$U$5,"Vencido","Vigente") -> Vigente | Y32: Trimestral | Z32: =+R32-$U$5 -> 1126 | AA32: =IF(Y32="Mensual",DURATION($C$1,$C$1+Z32*12,J32/12,O32/12,1)/12,DURATION($C$1,R32,J32,O32,IF(Y32="Cupón cero",1,IF(Y32="Al vencimiento",1,IF(Y32="Anual",1,IF(Y32="Semestral",2,IF(Y32="Trimestral",4,""))))))) -> 2.7882997 | AB32: =IF(Y32="Mensual",MDURATION($C$1,$C$1+Z32*12,J32/12,O32/12,1)/12,MDURATION($C$1,R32,J32,O32,IF(Y32="Cupón cero",1,IF(Y32="Al vencimiento",1,IF(Y32="Anual",1,IF(Y32="Semestral",2,IF(Y32="Trimestral",4,""))))))) -> 2.7426971 | AC32: Familiar CB | AD32: Amortización de K | AG32: =+IF(Tabla3[[#This Row],[Amortización k | cupón de intereses]]="Amortización de K",Tabla3[[#This Row],[Valor Nominal]],0) -> 150000 | AH32: =+IF(AND(Tabla3[[#This Row],[Amortización k | cupón de intereses]]="Cupón de interés",Tabla3[[#This Row],[Estado]]="Vigente"),Tabla3[[#This Row],[Valor Nominal]],0) -> 0 | AI32: =+IF(Tabla3[[#This Row],[Amortización k | cupón de intereses]]="Amortización de K",SUMIFS($AH$7:$AH$557,Tabla3[Código Emisión],Tabla3[[#This Row],[Código Emisión]],Tabla3[Fecha de operación],Tabla3[[#This Row],[Fecha de operación]]),0)-Tabla3[[#This Row],[Accrued]]*Tabla3[[#This Row],[Valor Nominal]] -> 30078.081 | AJ32: =+IF(Tabla3[[#This Row],[Amortización k | cupón de intereses]]="Amortización de K",IF(Tabla3[[#This Row],[Precio Clean]]>1,Tabla3[[#This Row],[Valor Nominal]]*(Tabla3[[#This Row],[Precio Clean]]-1),0),0) -> 32.503031 | AK32: =+IF(Tabla3[[#This Row],[Amortización k | cupón de intereses]]="Amortización de K",IF(Tabla3[[#This Row],[Precio Clean]]<1,Tabla3[[#This Row],[Valor Nominal]]*(Tabla3[[#This Row],[Precio Clean]]-1),0),0) -> 0 | AN32: 13080229902001 | AO32: (-) Intereses a devengar - Bonos Soberanos extranjeros | AP32: =+SUMIF(Tabla3[Instrumento],$AO29,$AI$7:$AI$384) -> 442712.33
B33: =+B32 -> Banco Basa SA | C33: =+C32 -> PYBAM01F0358 | D33: =+D32 -> Bonos Financieros | E33: =+E32 -> AA-py | F33: Financiero | G33: Paraguay | H33: =+H32 -> 150 | I33: 16.739726 | O33: =$O$7 -> 0.066508695 | P33: =$P$7 -> 0.06491147 | Q33: =+Q32 -> 45819 | R33: 47238 | S33: USD | T33: =Tabla3[[#This Row],[Cantidad]]*Tabla3[[#This Row],[Cortes]] -> 2510.9589 | U33: =IF(X33="VIgente",(T33/(1+O33)^((R33-$U$5)/365))) -> 2058.597 | V33: =IF(X33="VIgente",(T33/(1+O33)^((R33-$V$5)/365))) -> 2058.2339 | W33: =IF(Tabla3[[#This Row],[Fecha de operación]]=$C$1,0,U33-V33) -> 0.36312937 | X33: =IF(R33<=$U$5,"Vencido","Vigente") -> Vigente | Z33: =+R33-$U$5 -> 1126 | AA33: =AA32 -> 2.7882997 | AB33: =AB32 -> 2.7426971 | AC33: Familiar CB | AD33: Cupón de Interés | AG33: =+IF(Tabla3[[#This Row],[Amortización k | cupón de intereses]]="Amortización de K",Tabla3[[#This Row],[Valor Nominal]],0) -> 0 | AH33: =+IF(AND(Tabla3[[#This Row],[Amortización k | cupón de intereses]]="Cupón de interés",Tabla3[[#This Row],[Estado]]="Vigente"),Tabla3[[#This Row],[Valor Nominal]],0) -> 2510.9589 | AI33: =+IF(Tabla3[[#This Row],[Amortización k | cupón de intereses]]="Amortización de K",SUMIFS($AH$7:$AH$557,Tabla3[Código Emisión],Tabla3[[#This Row],[Código Emisión]],Tabla3[Fecha de operación],Tabla3[[#This Row],[Fecha de operación]]),0)-Tabla3[[#This Row],[Accrued]]*Tabla3[[#This Row],[Valor Nominal]] -> 0 | AJ33: =+IF(Tabla3[[#This Row],[Amortización k | cupón de intereses]]="Amortización de K",IF(Tabla3[[#This Row],[Precio Clean]]>1,Tabla3[[#This Row],[Valor Nominal]]*(Tabla3[[#This Row],[Precio Clean]]-1),0),0) -> 0 | AK33: =+IF(Tabla3[[#This Row],[Amortización k | cupón de intereses]]="Amortización de K",IF(Tabla3[[#This Row],[Precio Clean]]<1,Tabla3[[#This Row],[Valor Nominal]]*(Tabla3[[#This Row],[Precio Clean]]-1),0),0) -> 0 | AN33: 12010259002001 | AO33: Dif. de precio positivo no amort. - Bonos Soberanos extranjeros | AP33: =+SUMIF(Tabla3[Instrumento],$AO29,$AJ$7:$AJ$384) -> 0
